BEGIN:VCALENDAR
VERSION:2.0
PRODID:-//Richmond Contra Dance - ECPv6.15.20//NONSGML v1.0//EN
CALSCALE:GREGORIAN
METHOD:PUBLISH
X-ORIGINAL-URL:https://tadamsva.org
X-WR-CALDESC:Events for Richmond Contra Dance
REFRESH-INTERVAL;VALUE=DURATION:PT1H
X-Robots-Tag:noindex
X-PUBLISHED-TTL:PT1H
BEGIN:VTIMEZONE
TZID:America/New_York
BEGIN:DAYLIGHT
TZOFFSETFROM:-0500
TZOFFSETTO:-0400
TZNAME:EDT
DTSTART:20230312T070000
END:DAYLIGHT
BEGIN:STANDARD
TZOFFSETFROM:-0400
TZOFFSETTO:-0500
TZNAME:EST
DTSTART:20231105T060000
END:STANDARD
BEGIN:DAYLIGHT
TZOFFSETFROM:-0500
TZOFFSETTO:-0400
TZNAME:EDT
DTSTART:20240310T070000
END:DAYLIGHT
BEGIN:STANDARD
TZOFFSETFROM:-0400
TZOFFSETTO:-0500
TZNAME:EST
DTSTART:20241103T060000
END:STANDARD
BEGIN:DAYLIGHT
TZOFFSETFROM:-0500
TZOFFSETTO:-0400
TZNAME:EDT
DTSTART:20250309T070000
END:DAYLIGHT
BEGIN:STANDARD
TZOFFSETFROM:-0400
TZOFFSETTO:-0500
TZNAME:EST
DTSTART:20251102T060000
END:STANDARD
END:VTIMEZONE
BEGIN:VEVENT
DTSTART;TZID=America/New_York:20240227T190000
DTEND;TZID=America/New_York:20240227T204500
DTSTAMP:20260419T153359
CREATED:20240206T024841Z
LAST-MODIFIED:20240218T231143Z
UID:10000087-1709060400-1709066700@tadamsva.org
SUMMARY:TADAMS Board Meeting\, 2/27/2024
DESCRIPTION:Monthly board meetings are open to the public and engagement is encouraged. Board meetings typically occur the Monday following the final dance of each month.  \n\n\n\n  \n\n\n\n\nThe February board meeting has been re-scheduled for Tuesday\, February 27 and it will take place by ZOOM ONLY. To join the meeting\, please use this link: \n\n\n\n\nhttps://us02web.zoom.us/j/81068183507?pwd=b1p4QlNzc21zTTV1YmV1Q2FKcnY2dz09 \n\n\n\nMeeting ID: 810 681 83507
URL:https://tadamsva.org/dance/tadams-board-meeting-2-26-2024/
CATEGORIES:Board Meetings
END:VEVENT
END:VCALENDAR